BEGIN:VCALENDAR
VERSION:2.0
PRODID:-//BIT Warendorf - ECPv6.15.20//NONSGML v1.0//EN
CALSCALE:GREGORIAN
METHOD:PUBLISH
X-WR-CALNAME:BIT Warendorf
X-ORIGINAL-URL:https://bit-warendorf.de
X-WR-CALDESC:Veranstaltungen für BIT Warendorf
REFRESH-INTERVAL;VALUE=DURATION:PT1H
X-Robots-Tag:noindex
X-PUBLISHED-TTL:PT1H
BEGIN:VTIMEZONE
TZID:Europe/Berlin
BEGIN:DAYLIGHT
TZOFFSETFROM:+0100
TZOFFSETTO:+0200
TZNAME:CEST
DTSTART:20250330T010000
END:DAYLIGHT
BEGIN:STANDARD
TZOFFSETFROM:+0200
TZOFFSETTO:+0100
TZNAME:CET
DTSTART:20251026T010000
END:STANDARD
BEGIN:DAYLIGHT
TZOFFSETFROM:+0100
TZOFFSETTO:+0200
TZNAME:CEST
DTSTART:20260329T010000
END:DAYLIGHT
BEGIN:STANDARD
TZOFFSETFROM:+0200
TZOFFSETTO:+0100
TZNAME:CET
DTSTART:20261025T010000
END:STANDARD
BEGIN:DAYLIGHT
TZOFFSETFROM:+0100
TZOFFSETTO:+0200
TZNAME:CEST
DTSTART:20270328T010000
END:DAYLIGHT
BEGIN:STANDARD
TZOFFSETFROM:+0200
TZOFFSETTO:+0100
TZNAME:CET
DTSTART:20271031T010000
END:STANDARD
END:VTIMEZONE
BEGIN:VEVENT
DTSTART;TZID=Europe/Berlin:20260203T180000
DTEND;TZID=Europe/Berlin:20260203T193000
DTSTAMP:20260421T134205
CREATED:20201201T084247Z
LAST-MODIFIED:20251114T094611Z
UID:265-1770141600-1770147000@bit-warendorf.de
SUMMARY:Soziale Arbeit
DESCRIPTION:Ausbildungsziel: Sozialarbeiter*in (BA)\nund Sozialarbeiter*in (MA)\nSoziale Arbeit versteht sich als Profession\, die wissenschaftsfundiert bestrebt ist\, praktische soziale Probleme Einzelner\, in Gruppen und im Gemeinwesen zu lösen\, zu lindern oder zu verhindern. Soziale Arbeit als Fachdisziplin wird überall dort benötigt\, wo Kinder\, Jugendliche und Erwachsene in eine soziale Krisenlage geraten\, Konflikte in sozialen Gemeinschaften entstehen oder Formen der außerschulischen Bildung persönliche Entwicklungshilfe und Lernangebote erfordern. Soziale Arbeit ist zudem in den Aufgabenfeldern der Rehabilitation\, Eingliederung und Integration tätig. Seit 2001 ist Soziale Arbeit auch in Deutschland durch die Hochschulrektorenkonferenz (HRK) und die Kultusministerkonferenz (KMK) offiziell als Fachwissenschaft anerkannt. \n\n  \nReferentin und Referent \nDaniel Bögge\nLeiter des Sachgebietes Soziale Prävention und frühe Hilfen im Amt für Kinder\, Jugendliche und Familien des Kreises Warendorf \n \nFranziska Ruhe\nSozialarbeiterin im Amt für Kinder\, Jugendliche und Familien des Kreises Warendorf \n \nMechthild Jürgens\nTeam akademische Berufe der Agentur für Arbeit\, Warendorf \n  \nLINKS \nKarriereseite der Kreisverwaltung Warendorf
URL:https://bit-warendorf.de/event/soziale-arbeit/
LOCATION:Städt. Gesamtschule Weiße Rose Warendorf\, Von-Ketteler-Straße 42\, Gebäude III (Alte Kreishandwerkerschaft)\, Warendorf\, NRW\, 48231
CATEGORIES:Gesundheit | Soziales | Naturwissenschaften
ATTACH;FMTTYPE=image/jpeg:https://bit-warendorf.de/wp-content/uploads/2020/12/Beitragsbilder_soziale_arbeit-1.jpg
ORGANIZER;CN="BIT Warendorf":MAILTO:info@bit-warendorf.de
END:VEVENT
END:VCALENDAR